BEGIN:VCALENDAR
VERSION:2.0
PRODID:-//jEvents 2.0 for Joomla//EN
CALSCALE:GREGORIAN
METHOD:PUBLISH
BEGIN:VTIMEZONE
TZID:Europe/Berlin
BEGIN:STANDARD
DTSTART:20221030T020000
RDATE:20230326T030000
TZOFFSETFROM:+0200
TZOFFSETTO:+0100
TZNAME:Europe/Berlin CET
END:STANDARD
BEGIN:STANDARD
DTSTART:20231029T020000
RDATE:20240331T030000
TZOFFSETFROM:+0200
TZOFFSETTO:+0100
TZNAME:Europe/Berlin CET
END:STANDARD
BEGIN:STANDARD
DTSTART:20241027T020000
RDATE:20250330T030000
TZOFFSETFROM:+0200
TZOFFSETTO:+0100
TZNAME:Europe/Berlin CET
END:STANDARD
BEGIN:STANDARD
DTSTART:20251026T020000
RDATE:20260329T030000
TZOFFSETFROM:+0200
TZOFFSETTO:+0100
TZNAME:Europe/Berlin CET
END:STANDARD
BEGIN:STANDARD
DTSTART:20261025T020000
RDATE:20270328T030000
TZOFFSETFROM:+0200
TZOFFSETTO:+0100
TZNAME:Europe/Berlin CET
END:STANDARD
BEGIN:STANDARD
DTSTART:20271031T020000
RDATE:20280326T030000
TZOFFSETFROM:+0200
TZOFFSETTO:+0100
TZNAME:Europe/Berlin CET
END:STANDARD
BEGIN:DAYLIGHT
DTSTART:20220831T000000
RDATE:20221030T020000
TZOFFSETFROM:+0100
TZOFFSETTO:+0200
TZNAME:Europe/Berlin CEST
END:DAYLIGHT
BEGIN:DAYLIGHT
DTSTART:20230326T030000
RDATE:20231029T020000
TZOFFSETFROM:+0100
TZOFFSETTO:+0200
TZNAME:Europe/Berlin CEST
END:DAYLIGHT
BEGIN:DAYLIGHT
DTSTART:20240331T030000
RDATE:20241027T020000
TZOFFSETFROM:+0100
TZOFFSETTO:+0200
TZNAME:Europe/Berlin CEST
END:DAYLIGHT
BEGIN:DAYLIGHT
DTSTART:20250330T030000
RDATE:20251026T020000
TZOFFSETFROM:+0100
TZOFFSETTO:+0200
TZNAME:Europe/Berlin CEST
END:DAYLIGHT
BEGIN:DAYLIGHT
DTSTART:20260329T030000
RDATE:20261025T020000
TZOFFSETFROM:+0100
TZOFFSETTO:+0200
TZNAME:Europe/Berlin CEST
END:DAYLIGHT
BEGIN:DAYLIGHT
DTSTART:20270328T030000
RDATE:20271031T020000
TZOFFSETFROM:+0100
TZOFFSETTO:+0200
TZNAME:Europe/Berlin CEST
END:DAYLIGHT
END:VTIMEZONE
BEGIN:VEVENT
UID:f42987fa9ae4ba0ffbfc57673d7d6bc2
CATEGORIES:Kongresse
CREATED:20230619T121248
SUMMARY:PALS – Pediatric Advanced Life Support; Zertifikatskurs der AHA®
LOCATION:Würzburg
DESCRIPTION;ENCODING=QUOTED-PRINTABLE:\n\n\nPALS –Pediatric Advanced Life Support (AHA®)\n\n \n\n\nIn Gruppen bis
  zu je 6 Teilnehmern werden simulierte Notfallsituationen bei Kindern algor
 ithmus-basiert systematisch trainiert, um für die speziellen kindlichen Not
 fälle handlungskompetent zu sein. International anerkannter Kurs für inner-
  und außerklinische Notfallteams.\n\n\n\n\n\n \n\n\n\nThemen/Leistungen:\n\
 n \n\n\n✓ Systematische Befundung und Diagnostik bei pädiatrischen Patiente
 n\n\n\n \n\n\n✓ Herz-Lungen-Wiederbelebung bei Kindern, Kleinkinder und Säu
 glingen\n\n\n \n\n\n✓ Atemwegsmanagement \n\n\n \n\n\n✓ Pharmakotherapie, M
 edikamentenapplikation, Gefäßzugang\n\n\n \n\n\n✓ Einsatz von EKG, AED, Ele
 ktrotherapie\n\n\n \n\n\n✓ Erkennen/Versorgen gefährlicher Arrhythmien\n\n\
 n \n\n\n✓ Kennenlernen wichtiger Gerätschaften und Maßnahmen für die päd. A
 kutversorgung\n\n\n \n\n\n✓ Kommunikative Kompetenz innerhalb eines Reanima
 tionsteams\n\n\n \n\n\n✓ Teamführung als Leiter eines Notfallteams\n\n\n\n\
 n\n \n\n\n\nKosten:\n\n \n\n\n695,- EUR inkl. Zugang ins Online-Portal der 
 AHA®, gedrucktes Kurshandbuch PALS der AHA, zusätzliches hochwertiges Tabel
 lenbuch für Klinik/Rettungsdienst, Verpflegung während des Seminars\n\n\n\n
 \n\n \n\n\nWeitere Infos und Anmeldung:\n\n\nPALS –Pediatric Advanced Life 
 Support (AHA®) - Notfalltrainings | AHA Kurse PALS, ACLS | Airway-Kurse | M
 DK/DEGEA (re-alive.de)\n
DTSTAMP:20260425T060324Z
DTSTART;TZID=Europe/Berlin;VALUE=DATE:20230901
DTEND;TZID=Europe/Berlin;VALUE=DATE:20230903
SEQUENCE:0
TRANSP:OPAQUE
END:VEVENT
END:VCALENDAR