BEGIN:VCALENDAR
VERSION:2.0
PRODID:-//jEvents 2.0 for Joomla//EN
CALSCALE:GREGORIAN
METHOD:PUBLISH
BEGIN:VTIMEZONE
TZID:Europe/Berlin
BEGIN:STANDARD
DTSTART:20221109T000000
RDATE:20230326T030000
TZOFFSETFROM:+0200
TZOFFSETTO:+0100
TZNAME:Europe/Berlin CET
END:STANDARD
BEGIN:STANDARD
DTSTART:20231029T020000
RDATE:20240331T030000
TZOFFSETFROM:+0200
TZOFFSETTO:+0100
TZNAME:Europe/Berlin CET
END:STANDARD
BEGIN:STANDARD
DTSTART:20241027T020000
RDATE:20250330T030000
TZOFFSETFROM:+0200
TZOFFSETTO:+0100
TZNAME:Europe/Berlin CET
END:STANDARD
BEGIN:STANDARD
DTSTART:20251026T020000
RDATE:20260329T030000
TZOFFSETFROM:+0200
TZOFFSETTO:+0100
TZNAME:Europe/Berlin CET
END:STANDARD
BEGIN:STANDARD
DTSTART:20261025T020000
RDATE:20270328T030000
TZOFFSETFROM:+0200
TZOFFSETTO:+0100
TZNAME:Europe/Berlin CET
END:STANDARD
BEGIN:STANDARD
DTSTART:20271031T020000
RDATE:20280326T030000
TZOFFSETFROM:+0200
TZOFFSETTO:+0100
TZNAME:Europe/Berlin CET
END:STANDARD
BEGIN:DAYLIGHT
DTSTART:20230326T030000
RDATE:20231029T020000
TZOFFSETFROM:+0100
TZOFFSETTO:+0200
TZNAME:Europe/Berlin CEST
END:DAYLIGHT
BEGIN:DAYLIGHT
DTSTART:20240331T030000
RDATE:20241027T020000
TZOFFSETFROM:+0100
TZOFFSETTO:+0200
TZNAME:Europe/Berlin CEST
END:DAYLIGHT
BEGIN:DAYLIGHT
DTSTART:20250330T030000
RDATE:20251026T020000
TZOFFSETFROM:+0100
TZOFFSETTO:+0200
TZNAME:Europe/Berlin CEST
END:DAYLIGHT
BEGIN:DAYLIGHT
DTSTART:20260329T030000
RDATE:20261025T020000
TZOFFSETFROM:+0100
TZOFFSETTO:+0200
TZNAME:Europe/Berlin CEST
END:DAYLIGHT
BEGIN:DAYLIGHT
DTSTART:20270328T030000
RDATE:20271031T020000
TZOFFSETFROM:+0100
TZOFFSETTO:+0200
TZNAME:Europe/Berlin CEST
END:DAYLIGHT
END:VTIMEZONE
BEGIN:VEVENT
UID:0e5d3d14462734c0d2e348e56606a0c5
CATEGORIES:Kongresse
CREATED:20230619T131956
SUMMARY:Anästhesie Update 2023
LOCATION:Dorint Pallas Wiesbaden 
DESCRIPTION;ENCODING=QUOTED-PRINTABLE:\n\nAnästhesie Update 2023 | 14. Anästhesie-Intensivmedizin-Update-Seminar 
 \n\n\n \n\n\nWir laden Sie herzlich zum nächsten Anästhesie Update ein, wel
 ches am 10. und 11. November 2023 in Wiesbaden unter der wissenschaftlichen
  Leitung von Prof. Dr. Grietje Beck (Mannheim), Dr. Karin Becke-Jakob (Nürn
 berg), Prof. Dr. Winfried Meißner (Jena) und Prof. Dr. Dr. Kai Zacharowski 
 (Frankfurt) stattfindet.\n\n\nBeim Anästhesie Update stellt das Team aus ex
 zellenten Referierenden die relevanten Neuerungen in Ihrem Fachgebiet vor. 
 Die wichtigsten publizierten Ergebnisse klinischer Studien der Anästhesie, 
 anästhesiologischen Intensivmedizin, Schmerz- und Notfallmedizin aus dem le
 tzten Jahr werden für Sie praxisnah präsentiert und kommentiert. So werden 
 Sie in nur zwei komprimierten Fortbildungstagen auf den aktuellsten Stand d
 es Wissens in der AINS gebracht.\n\n\nFreuen Sie sich auf abwechslungsreich
 e Vorträge, spannende Diskussionen im Plenum und nutzen Sie die Speakers‘ C
 orner vor Ort, um nach den Präsentationen Ihre Fragen in kleiner Runde mit 
 der Referentin oder dem Referenten zu besprechen.\n\n\nProfitieren Sie auße
 rdem vom Anästhesie-Update-Wissenspaket: das umfangreiche Handbuch »UPDATE 
 Anästhesie 2023«, die Präsentationen im Nachgang zum Download sowie die Vor
 träge als Videos-on-Demand.\n\n\nWir freuen uns auf Sie – vor Ort oder im L
 ivestream!\n\n\n \n
DTSTAMP:20260421T115657Z
DTSTART;TZID=Europe/Berlin;VALUE=DATE:20231110
DTEND;TZID=Europe/Berlin;VALUE=DATE:20231112
SEQUENCE:0
TRANSP:OPAQUE
END:VEVENT
END:VCALENDAR