BEGIN:VCALENDAR
VERSION:2.0
PRODID:-//jEvents 2.0 for Joomla//EN
CALSCALE:GREGORIAN
METHOD:PUBLISH
BEGIN:VTIMEZONE
TZID:Europe/Berlin
BEGIN:STANDARD
DTSTART:20221030T020000
RDATE:20230326T030000
TZOFFSETFROM:+0200
TZOFFSETTO:+0100
TZNAME:Europe/Berlin CET
END:STANDARD
BEGIN:STANDARD
DTSTART:20231029T020000
RDATE:20240331T030000
TZOFFSETFROM:+0200
TZOFFSETTO:+0100
TZNAME:Europe/Berlin CET
END:STANDARD
BEGIN:STANDARD
DTSTART:20241027T020000
RDATE:20250330T030000
TZOFFSETFROM:+0200
TZOFFSETTO:+0100
TZNAME:Europe/Berlin CET
END:STANDARD
BEGIN:STANDARD
DTSTART:20251026T020000
RDATE:20260329T030000
TZOFFSETFROM:+0200
TZOFFSETTO:+0100
TZNAME:Europe/Berlin CET
END:STANDARD
BEGIN:STANDARD
DTSTART:20261025T020000
RDATE:20270328T030000
TZOFFSETFROM:+0200
TZOFFSETTO:+0100
TZNAME:Europe/Berlin CET
END:STANDARD
BEGIN:STANDARD
DTSTART:20271031T020000
RDATE:20280326T030000
TZOFFSETFROM:+0200
TZOFFSETTO:+0100
TZNAME:Europe/Berlin CET
END:STANDARD
BEGIN:DAYLIGHT
DTSTART:20221005T000000
RDATE:20221030T020000
TZOFFSETFROM:+0100
TZOFFSETTO:+0200
TZNAME:Europe/Berlin CEST
END:DAYLIGHT
BEGIN:DAYLIGHT
DTSTART:20230326T030000
RDATE:20231029T020000
TZOFFSETFROM:+0100
TZOFFSETTO:+0200
TZNAME:Europe/Berlin CEST
END:DAYLIGHT
BEGIN:DAYLIGHT
DTSTART:20240331T030000
RDATE:20241027T020000
TZOFFSETFROM:+0100
TZOFFSETTO:+0200
TZNAME:Europe/Berlin CEST
END:DAYLIGHT
BEGIN:DAYLIGHT
DTSTART:20250330T030000
RDATE:20251026T020000
TZOFFSETFROM:+0100
TZOFFSETTO:+0200
TZNAME:Europe/Berlin CEST
END:DAYLIGHT
BEGIN:DAYLIGHT
DTSTART:20260329T030000
RDATE:20261025T020000
TZOFFSETFROM:+0100
TZOFFSETTO:+0200
TZNAME:Europe/Berlin CEST
END:DAYLIGHT
BEGIN:DAYLIGHT
DTSTART:20270328T030000
RDATE:20271031T020000
TZOFFSETFROM:+0100
TZOFFSETTO:+0200
TZNAME:Europe/Berlin CEST
END:DAYLIGHT
END:VTIMEZONE
BEGIN:VEVENT
UID:a3d322edbdad1e6723c219344ee4abea
CATEGORIES:Kongresse
CREATED:20230627T213259
SUMMARY:4. Hamburger Einführungskurs Intensivmedizin
LOCATION:Asklepios Klinikum Harburg
DESCRIPTION;ENCODING=QUOTED-PRINTABLE:\n\nSehr geehrte Kolleginnen und Kollegen,\ndie ersten Dienste auf der Inte
 nsivstation stehen bevor und das Weaning oder die Nierenersatztherapie sind
  für Sie noch Fremdwörter? Zudem haben Sie ein wenig Sorge vor dem Umgang m
 it schwerkranken Patient:innen und der Durchführung verschiedener intensivm
 edizinischer\nMaßnahmen?\n\n\nFalls das so ist, möchten wir Ihnen den Einst
 ieg in das herausfordernde und spannende Gebiet der Intensivmedizin etwas e
 rleichtern, Sie bestmöglich auf Ihre ersten Dienste vorbereiten und hierbei
  eventuelle Wissenslücken schließen. Dafür bieten wir Ihnen den\n„4. Hambur
 ger Einführungskurs Intensivmedizin“ an.\nIn Zusammenarbeit mit zahlreichen
  erfahrenen Intensivmediziner:innen aus ganz Hamburg wollen wir Ihnen in di
 eser dreitägigen Fortbildung die Grundlagen der Intensivmedizin – sowohl th
 eoretisch als auch praktisch, in Vorträgen, Fallbeispielen und Workshops – 
 näherbringen.\n\n\nAuch für Kolleginnen und Kollegen, die bereits Erfahrung
  in der Intensivmedizin haben, ist dieser Kurs eine gute Gelegenheit, ihr W
 issen aufzufrischen oder zu vertiefen. \n\n\nWir hoffen, Ihr Interesse gewe
 ckt zu haben, und freuen uns auf Ihre Teilnahme und einen kollegialen Dialo
 g mit Ihnen.\n\n\n
DTSTAMP:20260423T210932Z
DTSTART;TZID=Europe/Berlin;VALUE=DATE:20231006
DTEND;TZID=Europe/Berlin;VALUE=DATE:20231009
SEQUENCE:0
TRANSP:OPAQUE
END:VEVENT
END:VCALENDAR