BEGIN:VCALENDAR
VERSION:2.0
PRODID:-//jEvents 2.0 for Joomla//EN
CALSCALE:GREGORIAN
METHOD:PUBLISH
BEGIN:VTIMEZONE
TZID:Europe/Berlin
BEGIN:STANDARD
DTSTART:20221030T020000
RDATE:20230326T030000
TZOFFSETFROM:+0200
TZOFFSETTO:+0100
TZNAME:Europe/Berlin CET
END:STANDARD
BEGIN:STANDARD
DTSTART:20231029T020000
RDATE:20240331T030000
TZOFFSETFROM:+0200
TZOFFSETTO:+0100
TZNAME:Europe/Berlin CET
END:STANDARD
BEGIN:STANDARD
DTSTART:20241027T020000
RDATE:20250330T030000
TZOFFSETFROM:+0200
TZOFFSETTO:+0100
TZNAME:Europe/Berlin CET
END:STANDARD
BEGIN:STANDARD
DTSTART:20251026T020000
RDATE:20260329T030000
TZOFFSETFROM:+0200
TZOFFSETTO:+0100
TZNAME:Europe/Berlin CET
END:STANDARD
BEGIN:STANDARD
DTSTART:20261025T020000
RDATE:20270328T030000
TZOFFSETFROM:+0200
TZOFFSETTO:+0100
TZNAME:Europe/Berlin CET
END:STANDARD
BEGIN:STANDARD
DTSTART:20271031T020000
RDATE:20280326T030000
TZOFFSETFROM:+0200
TZOFFSETTO:+0100
TZNAME:Europe/Berlin CET
END:STANDARD
BEGIN:DAYLIGHT
DTSTART:20220922T000000
RDATE:20221030T020000
TZOFFSETFROM:+0100
TZOFFSETTO:+0200
TZNAME:Europe/Berlin CEST
END:DAYLIGHT
BEGIN:DAYLIGHT
DTSTART:20230326T030000
RDATE:20231029T020000
TZOFFSETFROM:+0100
TZOFFSETTO:+0200
TZNAME:Europe/Berlin CEST
END:DAYLIGHT
BEGIN:DAYLIGHT
DTSTART:20240331T030000
RDATE:20241027T020000
TZOFFSETFROM:+0100
TZOFFSETTO:+0200
TZNAME:Europe/Berlin CEST
END:DAYLIGHT
BEGIN:DAYLIGHT
DTSTART:20250330T030000
RDATE:20251026T020000
TZOFFSETFROM:+0100
TZOFFSETTO:+0200
TZNAME:Europe/Berlin CEST
END:DAYLIGHT
BEGIN:DAYLIGHT
DTSTART:20260329T030000
RDATE:20261025T020000
TZOFFSETFROM:+0100
TZOFFSETTO:+0200
TZNAME:Europe/Berlin CEST
END:DAYLIGHT
BEGIN:DAYLIGHT
DTSTART:20270328T030000
RDATE:20271031T020000
TZOFFSETFROM:+0100
TZOFFSETTO:+0200
TZNAME:Europe/Berlin CEST
END:DAYLIGHT
END:VTIMEZONE
BEGIN:VEVENT
UID:45082a429bb697d872bd3ce3f3c77588
CATEGORIES:Kongresse
CREATED:20230705T130135
SUMMARY:22. Homburger Kindernotfallkurs
LOCATION:Universitätsklinikum des Saarlandes - Zentrales Hörsaalgebäude (Geb. 35)
DESCRIPTION;ENCODING=QUOTED-PRINTABLE:\n\nSehr geehrte Kolleginnen und Kollegen,\n\nwir laden Sie herzlich zu uns
 erem 22. „Homburger Kindernotfallkurs“\nin Homburg ein. Die Behandlung von 
 Kindern mit vital bedrohlichen\nVerletzungen oder Erkrankungen ist eine int
 erdisziplinäre Aufgabe.\nEs gibt kaum eine klinische Disziplin, die nicht i
 n die Versorgung dieser\nkleinen Patienten eingebunden ist. Müssen Kinder o
 periert werden, ist\ndas für alle Beteiligten eine fachliche und logistisch
 e Heraus forderung.\nDabei sind Narkosezwischenfälle in dieser Altersgruppe
  glücklicherweise\nselten, wodurch jedoch zumeist die Routine in der Bewält
 igung\nsolcher Situationen fehlt. Um dennoch auch in Notfallsituationen\nsc
 hnell und angemessen handeln zu können, braucht es Wissen\nüber die physiol
 ogischen Besonderheiten im Kindesalter, fachliches\nKönnen und nicht zuletz
 t immer wieder Übung.\n\nIn Zusammenarbeit mit der Klinik für Kinder- und J
 ugendmedizin\nveranstaltet die Klinik für Anästhesiologie einen Kindernotfa
 llkurs,\nder in Theorie und Praxis sowohl die Basis wie auch die erweiterte
 n\nReanimationsmaßnahmen für Kinder gemäß den aktuellen Empfehlungen\ndes E
 uropean Resuscitation Council (ERC) vermittelt. Zusätzlich\nwerden in kurze
 n, klinisch geprägten Vorträgen die zurzeit allgemein\nanerkannten Technike
 n zu Airwaymanagement und Neugeborenenerstversorgung\ndargestellt. Die Refe
 renten sind erfahrene Kollegen\nder Kinderklinik und regelmäßig in der Kind
 er anästhesie tätige\nAnästhesisten.\n\nAls Schwerpunkt des Tages werden in
  unserem Simulatorzentrum\npraktische Übungen stattfinden, bei denen die Te
 ilnehmer in kleinen\nGruppen das zuvor Gehörte trainieren können. Darüber h
 inaus gibt\nes Praktika zu den Themen Traumaversorgung und Gefäßzugänge.\nD
 ie Bewältigung typischer Notfall situationen wird in nachgestellten\nSzenar
 ien an unseren Simulationspuppen eingeübt.\nSelbstverständlich ist während 
 des gesamten Tages für Ihr\nleibliches Wohl gesorgt. Wir laden Sie hiermit 
 ganz herzlich zu\ndieser Veranstaltung ein und freuen uns sehr über Ihre Te
 ilnahme.\n\nProf. Dr. Thomas Volk\nDirektor der Klinik für Anästhesiologie,
  Intensivmedizin und Schmerztherapie\n\nProf. Dr. Michael Zemlin\nDirektor 
 der Klinik für Kinder- und Jugendmedizin\n
DTSTAMP:20260424T071828Z
DTSTART;TZID=Europe/Berlin;VALUE=DATE:20230923
DTEND;TZID=Europe/Berlin;VALUE=DATE:20230924
SEQUENCE:0
TRANSP:OPAQUE
END:VEVENT
END:VCALENDAR