BEGIN:VCALENDAR
VERSION:2.0
PRODID:-//jEvents 2.0 for Joomla//EN
CALSCALE:GREGORIAN
METHOD:PUBLISH
BEGIN:VTIMEZONE
TZID:Europe/Berlin
BEGIN:STANDARD
DTSTART:20221030T020000
RDATE:20230326T030000
TZOFFSETFROM:+0200
TZOFFSETTO:+0100
TZNAME:Europe/Berlin CET
END:STANDARD
BEGIN:STANDARD
DTSTART:20231029T020000
RDATE:20240331T030000
TZOFFSETFROM:+0200
TZOFFSETTO:+0100
TZNAME:Europe/Berlin CET
END:STANDARD
BEGIN:STANDARD
DTSTART:20241027T020000
RDATE:20250330T030000
TZOFFSETFROM:+0200
TZOFFSETTO:+0100
TZNAME:Europe/Berlin CET
END:STANDARD
BEGIN:STANDARD
DTSTART:20251026T020000
RDATE:20260329T030000
TZOFFSETFROM:+0200
TZOFFSETTO:+0100
TZNAME:Europe/Berlin CET
END:STANDARD
BEGIN:STANDARD
DTSTART:20261025T020000
RDATE:20270328T030000
TZOFFSETFROM:+0200
TZOFFSETTO:+0100
TZNAME:Europe/Berlin CET
END:STANDARD
BEGIN:STANDARD
DTSTART:20271031T020000
RDATE:20280326T030000
TZOFFSETFROM:+0200
TZOFFSETTO:+0100
TZNAME:Europe/Berlin CET
END:STANDARD
BEGIN:DAYLIGHT
DTSTART:20220822T000000
RDATE:20221030T020000
TZOFFSETFROM:+0100
TZOFFSETTO:+0200
TZNAME:Europe/Berlin CEST
END:DAYLIGHT
BEGIN:DAYLIGHT
DTSTART:20230326T030000
RDATE:20231029T020000
TZOFFSETFROM:+0100
TZOFFSETTO:+0200
TZNAME:Europe/Berlin CEST
END:DAYLIGHT
BEGIN:DAYLIGHT
DTSTART:20240331T030000
RDATE:20241027T020000
TZOFFSETFROM:+0100
TZOFFSETTO:+0200
TZNAME:Europe/Berlin CEST
END:DAYLIGHT
BEGIN:DAYLIGHT
DTSTART:20250330T030000
RDATE:20251026T020000
TZOFFSETFROM:+0100
TZOFFSETTO:+0200
TZNAME:Europe/Berlin CEST
END:DAYLIGHT
BEGIN:DAYLIGHT
DTSTART:20260329T030000
RDATE:20261025T020000
TZOFFSETFROM:+0100
TZOFFSETTO:+0200
TZNAME:Europe/Berlin CEST
END:DAYLIGHT
BEGIN:DAYLIGHT
DTSTART:20270328T030000
RDATE:20271031T020000
TZOFFSETFROM:+0100
TZOFFSETTO:+0200
TZNAME:Europe/Berlin CEST
END:DAYLIGHT
END:VTIMEZONE
BEGIN:VEVENT
UID:0b23cade2af264068a9f1a0c2187b13b
CATEGORIES:Kongresse
CREATED:20230707T105940
SUMMARY:PALS – Pediatric Advanced Life Support; Zertifikatskurs der AHA®
LOCATION:Würzburg, ReAlive
DESCRIPTION;ENCODING=QUOTED-PRINTABLE:WICHTIGE INFORMATION:\n\nUnsere Sommer-Session!\n\n\nEingeschobener Kurs wä
 hrend der Ferienzeit.\n\n\nBitte Anmeldeschluss beachten!\n\n\ndie finale Z
 u- oder Absage der Durchführung der Veranstaltung erfolgt in der letzten Ju
 li-Woche (Kursdurchführung bedingt durch Mindest-Teilnehmerzahl gem. Vorgab
 e der AHA)\n\n\nweitere Kurse verfügbar im SEPTEMBER! siehe unsere Website\
 n\n\n___\n\n\n \nPALS – Pediatric Advanced Life Support; Zertifikatskurs de
 r AHA®\n\n \nPALS –Pediatric Advanced Life Support (AHA®)\n\n \n\n\nIn Grup
 pen bis zu je 6 Teilnehmern werden simulierte Notfallsituationen bei Kinder
 n algorithmus-basiert systematisch trainiert, um für die speziellen kindlic
 hen Notfälle handlungskompetent zu sein. International anerkannter Kurs für
  inner- und außerklinische Notfallteams.\n\n\n  \nThemen/Leistungen:\n\n \n
 \n\n✓ Systematische Befundung und Diagnostik bei pädiatrischen Patienten\n\
 n\n \n\n\n✓ Herz-Lungen-Wiederbelebung bei Kindern, Kleinkinder und Säuglin
 gen\n\n\n \n\n\n✓ Atemwegsmanagement \n\n\n \n\n\n✓ Pharmakotherapie, Medik
 amentenapplikation, Gefäßzugang\n\n\n \n\n\n✓ Einsatz von EKG, AED, Elektro
 therapie\n\n\n \n\n\n✓ Erkennen/Versorgen gefährlicher Arrhythmien\n\n\n \n
 \n\n✓ Kennenlernen wichtiger Gerätschaften und Maßnahmen für die päd. Akutv
 ersorgung\n\n\n \n\n\n✓ Kommunikative Kompetenz innerhalb eines Reanimation
 steams\n\n\n \n\n\n✓ Teamführung als Leiter eines Notfallteams\n\n\n \n\n\n
  \n\n\n \nKosten:\n\n \n\n\n695,- EUR inkl. Zugang ins Online-Portal der AH
 A®, gedrucktes Kurshandbuch PALS der AHA, zusätzliches hochwertiges Tabelle
 nbuch für Klinik/Rettungsdienst, Verpflegung während des Seminars\n\n\n \n\
 n\n \n\n\nWeitere Infos und Anmeldung:\n\n\nPALS –Pediatric Advanced Life S
 upport (AHA®) - Notfalltrainings | AHA Kurse PALS, ACLS | Airway-Kurse | MD
 K/DEGEA (re-alive.de)\n
DTSTAMP:20260425T050642Z
DTSTART;TZID=Europe/Berlin;VALUE=DATE:20230823
DTEND;TZID=Europe/Berlin;VALUE=DATE:20230825
SEQUENCE:0
TRANSP:OPAQUE
END:VEVENT
END:VCALENDAR