BEGIN:VCALENDAR
VERSION:2.0
PRODID:-//jEvents 2.0 for Joomla//EN
CALSCALE:GREGORIAN
METHOD:PUBLISH
BEGIN:VTIMEZONE
TZID:Europe/Berlin
BEGIN:STANDARD
DTSTART:20221030T020000
RDATE:20230326T030000
TZOFFSETFROM:+0200
TZOFFSETTO:+0100
TZNAME:Europe/Berlin CET
END:STANDARD
BEGIN:STANDARD
DTSTART:20231029T020000
RDATE:20240331T030000
TZOFFSETFROM:+0200
TZOFFSETTO:+0100
TZNAME:Europe/Berlin CET
END:STANDARD
BEGIN:STANDARD
DTSTART:20241027T020000
RDATE:20250330T030000
TZOFFSETFROM:+0200
TZOFFSETTO:+0100
TZNAME:Europe/Berlin CET
END:STANDARD
BEGIN:STANDARD
DTSTART:20251026T020000
RDATE:20260329T030000
TZOFFSETFROM:+0200
TZOFFSETTO:+0100
TZNAME:Europe/Berlin CET
END:STANDARD
BEGIN:STANDARD
DTSTART:20261025T020000
RDATE:20270328T030000
TZOFFSETFROM:+0200
TZOFFSETTO:+0100
TZNAME:Europe/Berlin CET
END:STANDARD
BEGIN:STANDARD
DTSTART:20271031T020000
RDATE:20280326T030000
TZOFFSETFROM:+0200
TZOFFSETTO:+0100
TZNAME:Europe/Berlin CET
END:STANDARD
BEGIN:DAYLIGHT
DTSTART:20220918T000000
RDATE:20221030T020000
TZOFFSETFROM:+0100
TZOFFSETTO:+0200
TZNAME:Europe/Berlin CEST
END:DAYLIGHT
BEGIN:DAYLIGHT
DTSTART:20230326T030000
RDATE:20231029T020000
TZOFFSETFROM:+0100
TZOFFSETTO:+0200
TZNAME:Europe/Berlin CEST
END:DAYLIGHT
BEGIN:DAYLIGHT
DTSTART:20240331T030000
RDATE:20241027T020000
TZOFFSETFROM:+0100
TZOFFSETTO:+0200
TZNAME:Europe/Berlin CEST
END:DAYLIGHT
BEGIN:DAYLIGHT
DTSTART:20250330T030000
RDATE:20251026T020000
TZOFFSETFROM:+0100
TZOFFSETTO:+0200
TZNAME:Europe/Berlin CEST
END:DAYLIGHT
BEGIN:DAYLIGHT
DTSTART:20260329T030000
RDATE:20261025T020000
TZOFFSETFROM:+0100
TZOFFSETTO:+0200
TZNAME:Europe/Berlin CEST
END:DAYLIGHT
BEGIN:DAYLIGHT
DTSTART:20270328T030000
RDATE:20271031T020000
TZOFFSETFROM:+0100
TZOFFSETTO:+0200
TZNAME:Europe/Berlin CEST
END:DAYLIGHT
END:VTIMEZONE
BEGIN:VEVENT
UID:0b7034d9e4be83d5ce371f09ce53d13e
CATEGORIES:Kongresse
CREATED:20230707T110037
SUMMARY:PALS – Pediatric Advanced Life Support; Zertifikatskurs der AHA®
LOCATION:Würzburg, ReAlive
DESCRIPTION;ENCODING=QUOTED-PRINTABLE: \n\n \nPALS – Pediatric Advanced Life Support; Zertifikatskurs der AHA®\n\
 n \nPALS –Pediatric Advanced Life Support (AHA®)\n\n \n\n\nIn Gruppen bis z
 u je 6 Teilnehmern werden simulierte Notfallsituationen bei Kindern algorit
 hmus-basiert systematisch trainiert, um für die speziellen kindlichen Notfä
 lle handlungskompetent zu sein. International anerkannter Kurs für inner- u
 nd außerklinische Notfallteams.\n\n\n  \nThemen/Leistungen:\n\n \n\n\n✓ Sys
 tematische Befundung und Diagnostik bei pädiatrischen Patienten\n\n\n \n\n\
 n✓ Herz-Lungen-Wiederbelebung bei Kindern, Kleinkinder und Säuglingen\n\n\n
  \n\n\n✓ Atemwegsmanagement \n\n\n \n\n\n✓ Pharmakotherapie, Medikamentenap
 plikation, Gefäßzugang\n\n\n \n\n\n✓ Einsatz von EKG, AED, Elektrotherapie\
 n\n\n \n\n\n✓ Erkennen/Versorgen gefährlicher Arrhythmien\n\n\n \n\n\n✓ Ken
 nenlernen wichtiger Gerätschaften und Maßnahmen für die päd. Akutversorgung
 \n\n\n \n\n\n✓ Kommunikative Kompetenz innerhalb eines Reanimationsteams\n\
 n\n \n\n\n✓ Teamführung als Leiter eines Notfallteams\n\n\n \n\n\n \n\n\n \
 nKosten:\n\n \n\n\n695,- EUR inkl. Zugang ins Online-Portal der AHA®, gedru
 cktes Kurshandbuch PALS der AHA, zusätzliches hochwertiges Tabellenbuch für
  Klinik/Rettungsdienst, Verpflegung während des Seminars\n\n\n \n\n\n \n\n\
 nWeitere Infos und Anmeldung:\n\n\nPALS –Pediatric Advanced Life Support (A
 HA®) - Notfalltrainings | AHA Kurse PALS, ACLS | Airway-Kurse | MDK/DEGEA (
 re-alive.de)\n
DTSTAMP:20260424T133342Z
DTSTART;TZID=Europe/Berlin;VALUE=DATE:20230919
DTEND;TZID=Europe/Berlin;VALUE=DATE:20230921
SEQUENCE:0
TRANSP:OPAQUE
END:VEVENT
END:VCALENDAR