BEGIN:VCALENDAR
VERSION:2.0
PRODID:-//jEvents 2.0 for Joomla//EN
CALSCALE:GREGORIAN
METHOD:PUBLISH
BEGIN:VTIMEZONE
TZID:Europe/Berlin
BEGIN:STANDARD
DTSTART:20221030T020000
RDATE:20230326T030000
TZOFFSETFROM:+0200
TZOFFSETTO:+0100
TZNAME:Europe/Berlin CET
END:STANDARD
BEGIN:STANDARD
DTSTART:20231029T020000
RDATE:20240331T030000
TZOFFSETFROM:+0200
TZOFFSETTO:+0100
TZNAME:Europe/Berlin CET
END:STANDARD
BEGIN:STANDARD
DTSTART:20241027T020000
RDATE:20250330T030000
TZOFFSETFROM:+0200
TZOFFSETTO:+0100
TZNAME:Europe/Berlin CET
END:STANDARD
BEGIN:STANDARD
DTSTART:20251026T020000
RDATE:20260329T030000
TZOFFSETFROM:+0200
TZOFFSETTO:+0100
TZNAME:Europe/Berlin CET
END:STANDARD
BEGIN:STANDARD
DTSTART:20261025T020000
RDATE:20270328T030000
TZOFFSETFROM:+0200
TZOFFSETTO:+0100
TZNAME:Europe/Berlin CET
END:STANDARD
BEGIN:STANDARD
DTSTART:20271031T020000
RDATE:20280326T030000
TZOFFSETFROM:+0200
TZOFFSETTO:+0100
TZNAME:Europe/Berlin CET
END:STANDARD
BEGIN:DAYLIGHT
DTSTART:20220915T080000
RDATE:20221030T020000
TZOFFSETFROM:+0100
TZOFFSETTO:+0200
TZNAME:Europe/Berlin CEST
END:DAYLIGHT
BEGIN:DAYLIGHT
DTSTART:20230326T030000
RDATE:20231029T020000
TZOFFSETFROM:+0100
TZOFFSETTO:+0200
TZNAME:Europe/Berlin CEST
END:DAYLIGHT
BEGIN:DAYLIGHT
DTSTART:20240331T030000
RDATE:20241027T020000
TZOFFSETFROM:+0100
TZOFFSETTO:+0200
TZNAME:Europe/Berlin CEST
END:DAYLIGHT
BEGIN:DAYLIGHT
DTSTART:20250330T030000
RDATE:20251026T020000
TZOFFSETFROM:+0100
TZOFFSETTO:+0200
TZNAME:Europe/Berlin CEST
END:DAYLIGHT
BEGIN:DAYLIGHT
DTSTART:20260329T030000
RDATE:20261025T020000
TZOFFSETFROM:+0100
TZOFFSETTO:+0200
TZNAME:Europe/Berlin CEST
END:DAYLIGHT
BEGIN:DAYLIGHT
DTSTART:20270328T030000
RDATE:20271031T020000
TZOFFSETFROM:+0100
TZOFFSETTO:+0200
TZNAME:Europe/Berlin CEST
END:DAYLIGHT
END:VTIMEZONE
BEGIN:VEVENT
UID:1ef86acef96cd83f43da8c980907a532
CATEGORIES:Kongresse
CREATED:20230811T102836
SUMMARY:Notarztkurs - 80 Stunden Weiterbildung Zusatzbezeichnung Notfallmedizin
LOCATION:RKH Simulationszentrum
DESCRIPTION;ENCODING=QUOTED-PRINTABLE:\n\nDer Notarztkurs Ludwigsburg vermittelt die theoretischen und praktische
 n Grundlagen für den Erwerb der Zusatzbezeichnung Notfallmedizin nach curri
 cularen Vorgaben.\n\nZum ersten Mal im Jahr 2021 wird dieser Kurs in komple
 tt neuer Gestaltung durch das RKH Simulationszentrum angeboten.\n\nSchwerpu
 nkt ist die Wissensvermittlung durch die deutlich ausgebauten Praxisanteile
 . In über 30 verschiedenen Kleingruppen – Workshops erlernen Sie das Handwe
 rkszeug für den erfolgreichen späteren Einsatz als Notärztin/Notarzt.\nDarü
 ber hinaus erhält jeder Teilnehmer automatisch mit Absolvieren des Kurses e
 in Reanimationszertifikat (ILS nach ERC Richtlinien).\n\n!! Die Teilnehmer 
 bekommen die Möglichkeit durch Buchen eines weiteren Kurstages ein Upgrade 
 dieses Zertifikat auf ein ALS-Zertifikat nach ERC-Richtlinien zu erlangen !
 !\n
DTSTAMP:20260424T161516Z
DTSTART;TZID=Europe/Berlin:20230916T080000
DTEND;TZID=Europe/Berlin:20230923T173000
SEQUENCE:0
TRANSP:OPAQUE
END:VEVENT
END:VCALENDAR