BEGIN:VCALENDAR
VERSION:2.0
PRODID:-//jEvents 2.0 for Joomla//EN
CALSCALE:GREGORIAN
METHOD:PUBLISH
BEGIN:VTIMEZONE
TZID:Europe/Berlin
BEGIN:STANDARD
DTSTART:20221108T080000
RDATE:20230326T030000
TZOFFSETFROM:+0200
TZOFFSETTO:+0100
TZNAME:Europe/Berlin CET
END:STANDARD
BEGIN:STANDARD
DTSTART:20231029T020000
RDATE:20240331T030000
TZOFFSETFROM:+0200
TZOFFSETTO:+0100
TZNAME:Europe/Berlin CET
END:STANDARD
BEGIN:STANDARD
DTSTART:20241027T020000
RDATE:20250330T030000
TZOFFSETFROM:+0200
TZOFFSETTO:+0100
TZNAME:Europe/Berlin CET
END:STANDARD
BEGIN:STANDARD
DTSTART:20251026T020000
RDATE:20260329T030000
TZOFFSETFROM:+0200
TZOFFSETTO:+0100
TZNAME:Europe/Berlin CET
END:STANDARD
BEGIN:STANDARD
DTSTART:20261025T020000
RDATE:20270328T030000
TZOFFSETFROM:+0200
TZOFFSETTO:+0100
TZNAME:Europe/Berlin CET
END:STANDARD
BEGIN:STANDARD
DTSTART:20271031T020000
RDATE:20280326T030000
TZOFFSETFROM:+0200
TZOFFSETTO:+0100
TZNAME:Europe/Berlin CET
END:STANDARD
BEGIN:DAYLIGHT
DTSTART:20230326T030000
RDATE:20231029T020000
TZOFFSETFROM:+0100
TZOFFSETTO:+0200
TZNAME:Europe/Berlin CEST
END:DAYLIGHT
BEGIN:DAYLIGHT
DTSTART:20240331T030000
RDATE:20241027T020000
TZOFFSETFROM:+0100
TZOFFSETTO:+0200
TZNAME:Europe/Berlin CEST
END:DAYLIGHT
BEGIN:DAYLIGHT
DTSTART:20250330T030000
RDATE:20251026T020000
TZOFFSETFROM:+0100
TZOFFSETTO:+0200
TZNAME:Europe/Berlin CEST
END:DAYLIGHT
BEGIN:DAYLIGHT
DTSTART:20260329T030000
RDATE:20261025T020000
TZOFFSETFROM:+0100
TZOFFSETTO:+0200
TZNAME:Europe/Berlin CEST
END:DAYLIGHT
BEGIN:DAYLIGHT
DTSTART:20270328T030000
RDATE:20271031T020000
TZOFFSETFROM:+0100
TZOFFSETTO:+0200
TZNAME:Europe/Berlin CEST
END:DAYLIGHT
END:VTIMEZONE
BEGIN:VEVENT
UID:7ec1dada5e618063fd1859a4128cb6aa
CATEGORIES:Kongresse
CREATED:20230811T114337
SUMMARY:Einführungskurs Intensivmedizin
LOCATION:RKH Simulationszentrum
DESCRIPTION;ENCODING=QUOTED-PRINTABLE:\n\nSie werden demnächst Ihre Tätigkeit auf einer Intensivstation beginnen 
 und möchten neue Fähigkeiten erlernen?\n\nDann sind Sie im RKH Einführungsk
 urs Intensivmedizin genau richtig. Wir unterstützen Sie dabei, relevante Kr
 ankheitsbilder, Theorie und Praxis intensivmedizinischer Techniken zu erler
 nen.\n\nDarüber hinaus erhält automatisch jeder Teilnehmer mit Absolvieren 
 des Kurses ein Reanimationszertifikat (ILS nach ERC Richtlinien).\n\n\nUnse
 re erfahrenen Referenten im Bereich Intensivmedizin und die Trainer des RKH
  Simulationszentrums bieten Ihnen eine Mischung aus gebündeltem, aktuellem 
 Wissen mit Praxisbezug sowie Hands-on-Skilltrainings in Kleingruppen.\n\nDe
 r Theorie-Anteil wird Ihnen zuvor über unsere Online Trainingsplattform zur
  Verfügung gestellt.\n
DTSTAMP:20260421T210043Z
DTSTART;TZID=Europe/Berlin:20231109T080000
DTEND;TZID=Europe/Berlin:20231112T160000
SEQUENCE:0
TRANSP:OPAQUE
END:VEVENT
END:VCALENDAR