BEGIN:VCALENDAR
VERSION:2.0
PRODID:-//jEvents 2.0 for Joomla//EN
CALSCALE:GREGORIAN
METHOD:PUBLISH
BEGIN:VTIMEZONE
TZID:Europe/Berlin
BEGIN:STANDARD
DTSTART:20221030T020000
RDATE:20230326T030000
TZOFFSETFROM:+0200
TZOFFSETTO:+0100
TZNAME:Europe/Berlin CET
END:STANDARD
BEGIN:STANDARD
DTSTART:20231029T020000
RDATE:20240331T030000
TZOFFSETFROM:+0200
TZOFFSETTO:+0100
TZNAME:Europe/Berlin CET
END:STANDARD
BEGIN:STANDARD
DTSTART:20241027T020000
RDATE:20250330T030000
TZOFFSETFROM:+0200
TZOFFSETTO:+0100
TZNAME:Europe/Berlin CET
END:STANDARD
BEGIN:STANDARD
DTSTART:20251026T020000
RDATE:20260329T030000
TZOFFSETFROM:+0200
TZOFFSETTO:+0100
TZNAME:Europe/Berlin CET
END:STANDARD
BEGIN:STANDARD
DTSTART:20261025T020000
RDATE:20270328T030000
TZOFFSETFROM:+0200
TZOFFSETTO:+0100
TZNAME:Europe/Berlin CET
END:STANDARD
BEGIN:STANDARD
DTSTART:20271031T020000
RDATE:20280326T030000
TZOFFSETFROM:+0200
TZOFFSETTO:+0100
TZNAME:Europe/Berlin CET
END:STANDARD
BEGIN:DAYLIGHT
DTSTART:20221015T000000
RDATE:20221030T020000
TZOFFSETFROM:+0100
TZOFFSETTO:+0200
TZNAME:Europe/Berlin CEST
END:DAYLIGHT
BEGIN:DAYLIGHT
DTSTART:20230326T030000
RDATE:20231029T020000
TZOFFSETFROM:+0100
TZOFFSETTO:+0200
TZNAME:Europe/Berlin CEST
END:DAYLIGHT
BEGIN:DAYLIGHT
DTSTART:20240331T030000
RDATE:20241027T020000
TZOFFSETFROM:+0100
TZOFFSETTO:+0200
TZNAME:Europe/Berlin CEST
END:DAYLIGHT
BEGIN:DAYLIGHT
DTSTART:20250330T030000
RDATE:20251026T020000
TZOFFSETFROM:+0100
TZOFFSETTO:+0200
TZNAME:Europe/Berlin CEST
END:DAYLIGHT
BEGIN:DAYLIGHT
DTSTART:20260329T030000
RDATE:20261025T020000
TZOFFSETFROM:+0100
TZOFFSETTO:+0200
TZNAME:Europe/Berlin CEST
END:DAYLIGHT
BEGIN:DAYLIGHT
DTSTART:20270328T030000
RDATE:20271031T020000
TZOFFSETFROM:+0100
TZOFFSETTO:+0200
TZNAME:Europe/Berlin CEST
END:DAYLIGHT
END:VTIMEZONE
BEGIN:VEVENT
UID:079d1397ccd6b47656f9fe739a2adf0e
CATEGORIES:Kongresse
CREATED:20230817T130657
SUMMARY:Leitender Notarzt
LOCATION:Institut für Rettungs- und Notfallmedizin
DESCRIPTION;ENCODING=QUOTED-PRINTABLE:\n\nMassenanfälle von Verletzten und Erkrankten sind ein eher seltenes Erei
 gnis, fordern aber von der Abschnittsleitung Rettungsdienst schnelle und we
 itreichende Entscheidungen. Um diese Entscheidungen gut und sicher treffen 
 zu können, bedarf es einer fundierten Ausbildung und Erfahrung. Das Institu
 t für Rettungs- und Notfallmedizin hat es sich zur Aufgabe gemacht, angehen
 de Leitende Notärzt*innen bestmöglich auf ihre verantwortungsvolle Aufgabe 
 vorzubereiten.\n\n\nUnser Kurs bereitet Sie umfassend gemäß den Vorgaben de
 r Bundesärztekammer auf die Tätigkeit als Leitende/r Notärzt*in vor und bie
 tet eine Ausbildung in den Bereichen Führungskompetenz und Krisenmanagement
 . Die praxisorientierten Übungen und Simulationen ermöglichen Ihnen, das Ge
 lernte direkt unter realistischen Bedingungen zu trainieren und zu vertiefe
 n.\n\n\nUnser hochqualifiziertes Team aus erfahrenen Notfallmediziner*innen
  und Expert*innen im Bereich der Einsatzleitung Rettungsdienst steht Ihnen 
 dabei zur Seite und vermittelt Ihnen das nötige Fachwissen sowie die prakti
 schen Fähigkeiten, um in Notfallsituationen souverän und effektiv agieren z
 u können.\n\n\nDer Kurs wird sowohl als LNA-Kurs als auch für CME-Punkte üb
 er die Ärztekammer Schleswig-Holstein registriert.\nDauer:\n\n40 Stunden\n\
 n\nAnmeldung unter www.terminland.de/irun \n
DTSTAMP:20260423T121508Z
DTSTART;TZID=Europe/Berlin;VALUE=DATE:20231016
DTEND;TZID=Europe/Berlin;VALUE=DATE:20231022
SEQUENCE:0
TRANSP:OPAQUE
END:VEVENT
END:VCALENDAR