BEGIN:VCALENDAR
VERSION:2.0
PRODID:-//jEvents 2.0 for Joomla//EN
CALSCALE:GREGORIAN
METHOD:PUBLISH
BEGIN:VTIMEZONE
TZID:Europe/Berlin
BEGIN:STANDARD
DTSTART:20221030T020000
RDATE:20230326T030000
TZOFFSETFROM:+0200
TZOFFSETTO:+0100
TZNAME:Europe/Berlin CET
END:STANDARD
BEGIN:STANDARD
DTSTART:20231029T020000
RDATE:20240331T030000
TZOFFSETFROM:+0200
TZOFFSETTO:+0100
TZNAME:Europe/Berlin CET
END:STANDARD
BEGIN:STANDARD
DTSTART:20241027T020000
RDATE:20250330T030000
TZOFFSETFROM:+0200
TZOFFSETTO:+0100
TZNAME:Europe/Berlin CET
END:STANDARD
BEGIN:STANDARD
DTSTART:20251026T020000
RDATE:20260329T030000
TZOFFSETFROM:+0200
TZOFFSETTO:+0100
TZNAME:Europe/Berlin CET
END:STANDARD
BEGIN:STANDARD
DTSTART:20261025T020000
RDATE:20270328T030000
TZOFFSETFROM:+0200
TZOFFSETTO:+0100
TZNAME:Europe/Berlin CET
END:STANDARD
BEGIN:STANDARD
DTSTART:20271031T020000
RDATE:20280326T030000
TZOFFSETFROM:+0200
TZOFFSETTO:+0100
TZNAME:Europe/Berlin CET
END:STANDARD
BEGIN:DAYLIGHT
DTSTART:20220922T000000
RDATE:20221030T020000
TZOFFSETFROM:+0100
TZOFFSETTO:+0200
TZNAME:Europe/Berlin CEST
END:DAYLIGHT
BEGIN:DAYLIGHT
DTSTART:20230326T030000
RDATE:20231029T020000
TZOFFSETFROM:+0100
TZOFFSETTO:+0200
TZNAME:Europe/Berlin CEST
END:DAYLIGHT
BEGIN:DAYLIGHT
DTSTART:20240331T030000
RDATE:20241027T020000
TZOFFSETFROM:+0100
TZOFFSETTO:+0200
TZNAME:Europe/Berlin CEST
END:DAYLIGHT
BEGIN:DAYLIGHT
DTSTART:20250330T030000
RDATE:20251026T020000
TZOFFSETFROM:+0100
TZOFFSETTO:+0200
TZNAME:Europe/Berlin CEST
END:DAYLIGHT
BEGIN:DAYLIGHT
DTSTART:20260329T030000
RDATE:20261025T020000
TZOFFSETFROM:+0100
TZOFFSETTO:+0200
TZNAME:Europe/Berlin CEST
END:DAYLIGHT
BEGIN:DAYLIGHT
DTSTART:20270328T030000
RDATE:20271031T020000
TZOFFSETFROM:+0100
TZOFFSETTO:+0200
TZNAME:Europe/Berlin CEST
END:DAYLIGHT
END:VTIMEZONE
BEGIN:VEVENT
UID:6035ca1536ed7da5c7b538dd3f77d607
CATEGORIES:Kongresse
CREATED:20230904T092514
SUMMARY:Workshop Airwaymanagement
LOCATION:DIAKOVERE Henriettenstift
DESCRIPTION;ENCODING=QUOTED-PRINTABLE:Der schwierige Atemweg stellt eine alltägliche Herausforderung für jeden An
 ästhesisten, Intensiv- und Notfallmediziner dar. Mit unserem Workshop wolle
 n wir einen Beitrag dazu leisten, Kompetenzen und Konzepte für ein erfolgre
 iches Atemwegs-Management zu entwickeln.\nDie aktuellen Leitlinien empfehle
 n bei erwartet schwierigem Atemweg die Intubation unter Erhalt der Spontana
 tmung. Schwerpunkt unseres Workshops ist daher das praktische Atemwegs-Mana
 gement mit der flexiblen Intubationsendoskopie in verschiedenen Szenarien. 
 \nDie Verwendung alternativer Verfahren und Konzepte der Atemwegssicherung 
 inklusive der Videolaryngoskopie, supraglottischer Atemwege sowie die siche
 re Platzierung von Doppel-lumentuben und Bronchusblockern sind feste Bestan
 dteile unseres Kurses. Der Einsatz der Sonographie und verschiedene Technik
 en der Koniotomie sollen nicht fehlen.\nWir freuen uns auf Sie!\n \nSamstag
 , 23. September 2023\n8.15 Uhr bis ca. 18 Uhr\nDie Teilnahmegebühr beträgt 
 180 EUR.\n \nDie Teilnehmeranzahl ist begrenzt. Wir bitten um eine schriftl
 iche Anmeldung per E-Mail an unser Sekretariat: \nDiese E-Mail-Adresse ist 
 vor Spambots geschützt! Zur Anzeige muss JavaScript eingeschaltet sein!
			
 	document.getElementById('cloak043f1c85b055466e9e40e191dc85aab0').innerHTML
  = '';
				var prefix = '&#109;a' + 'i&#108;' + '&#116;o';
				var path = '
 hr' + 'ef' + '=';
				var addy043f1c85b055466e9e40e191dc85aab0 = 's&#111;nj
 &#97;.v&#105;&#101;hm&#101;y&#101;r' + '&#64;';
				addy043f1c85b055466e9e4
 0e191dc85aab0 = addy043f1c85b055466e9e40e191dc85aab0 + 'd&#105;&#97;k&#111;
 v&#101;r&#101;' + '&#46;' + 'd&#101;';
				var addy_text043f1c85b055466e9e4
 0e191dc85aab0 = 's&#111;nj&#97;.v&#105;&#101;hm&#101;y&#101;r' + '&#64;' + 
 'd&#105;&#97;k&#111;v&#101;r&#101;' + '&#46;' + 'd&#101;';document.getEleme
 ntById('cloak043f1c85b055466e9e40e191dc85aab0').innerHTML += ''+addy_text04
 3f1c85b055466e9e40e191dc85aab0+'';
		\noder per Telefon: 0511 129-2307\n \n
 Bei Fragen oder Unklarheiten zögern Sie bitte nicht, uns zu kontaktieren (g
 erne Email an Diese E-Mail-Adresse ist vor Spambots geschützt! Zur Anzeige 
 muss JavaScript eingeschaltet sein!
				document.getElementById('cloake3300
 b985f7657f109eb0de633754595').innerHTML = '';
				var prefix = '&#109;a' + 
 'i&#108;' + '&#116;o';
				var path = 'hr' + 'ef' + '=';
				var addye3300b
 985f7657f109eb0de633754595 = 'm&#97;rt&#105;n.sch&#111;tt' + '&#64;';
				a
 ddye3300b985f7657f109eb0de633754595 = addye3300b985f7657f109eb0de633754595 
 + 'd&#105;&#97;k&#111;v&#101;r&#101;' + '&#46;' + 'd&#101;';
				var addy_t
 exte3300b985f7657f109eb0de633754595 = 'm&#97;rt&#105;n.sch&#111;tt' + '&#64
 ;' + 'd&#105;&#97;k&#111;v&#101;r&#101;' + '&#46;' + 'd&#101;';document.get
 ElementById('cloake3300b985f7657f109eb0de633754595').innerHTML += ''+addy_t
 exte3300b985f7657f109eb0de633754595+'';
		)\nDie Veranstaltung ist bei der 
 Ärztekammer Niedersachsen als Fortbildungsveranstaltung angemeldet.\n
DTSTAMP:20260424T055915Z
DTSTART;TZID=Europe/Berlin;VALUE=DATE:20230923
DTEND;TZID=Europe/Berlin;VALUE=DATE:20230924
SEQUENCE:0
TRANSP:OPAQUE
END:VEVENT
END:VCALENDAR