BEGIN:VCALENDAR
VERSION:2.0
PRODID:-//jEvents 2.0 for Joomla//EN
CALSCALE:GREGORIAN
METHOD:PUBLISH
BEGIN:VTIMEZONE
TZID:Europe/Berlin
BEGIN:STANDARD
DTSTART:20221109T000000
RDATE:20230326T030000
TZOFFSETFROM:+0200
TZOFFSETTO:+0100
TZNAME:Europe/Berlin CET
END:STANDARD
BEGIN:STANDARD
DTSTART:20231029T020000
RDATE:20240331T030000
TZOFFSETFROM:+0200
TZOFFSETTO:+0100
TZNAME:Europe/Berlin CET
END:STANDARD
BEGIN:STANDARD
DTSTART:20241027T020000
RDATE:20250330T030000
TZOFFSETFROM:+0200
TZOFFSETTO:+0100
TZNAME:Europe/Berlin CET
END:STANDARD
BEGIN:STANDARD
DTSTART:20251026T020000
RDATE:20260329T030000
TZOFFSETFROM:+0200
TZOFFSETTO:+0100
TZNAME:Europe/Berlin CET
END:STANDARD
BEGIN:STANDARD
DTSTART:20261025T020000
RDATE:20270328T030000
TZOFFSETFROM:+0200
TZOFFSETTO:+0100
TZNAME:Europe/Berlin CET
END:STANDARD
BEGIN:STANDARD
DTSTART:20271031T020000
RDATE:20280326T030000
TZOFFSETFROM:+0200
TZOFFSETTO:+0100
TZNAME:Europe/Berlin CET
END:STANDARD
BEGIN:DAYLIGHT
DTSTART:20230326T030000
RDATE:20231029T020000
TZOFFSETFROM:+0100
TZOFFSETTO:+0200
TZNAME:Europe/Berlin CEST
END:DAYLIGHT
BEGIN:DAYLIGHT
DTSTART:20240331T030000
RDATE:20241027T020000
TZOFFSETFROM:+0100
TZOFFSETTO:+0200
TZNAME:Europe/Berlin CEST
END:DAYLIGHT
BEGIN:DAYLIGHT
DTSTART:20250330T030000
RDATE:20251026T020000
TZOFFSETFROM:+0100
TZOFFSETTO:+0200
TZNAME:Europe/Berlin CEST
END:DAYLIGHT
BEGIN:DAYLIGHT
DTSTART:20260329T030000
RDATE:20261025T020000
TZOFFSETFROM:+0100
TZOFFSETTO:+0200
TZNAME:Europe/Berlin CEST
END:DAYLIGHT
BEGIN:DAYLIGHT
DTSTART:20270328T030000
RDATE:20271031T020000
TZOFFSETFROM:+0100
TZOFFSETTO:+0200
TZNAME:Europe/Berlin CEST
END:DAYLIGHT
END:VTIMEZONE
BEGIN:VEVENT
UID:ca0bc893ef48ce9c8b324dd4bcb186e8
CATEGORIES:Kongresse
CREATED:20230922T173329
SUMMARY:KUNO Kindernotfallkurs 2023 gemäß DIVI-Curriculum
LOCATION:KUNO Kinderklinik
DESCRIPTION;ENCODING=QUOTED-PRINTABLE:\n\nTAG 1\nVorträge: \nAnatomie und Physiologie – Besonderheiten im Kindesa
 lter\nKardiopulmonale Reanimation – die aktuellen ERC Leitlinien \nAtemwegs
 management\nRespiratorische Notfälle\nSchädelhirntrauma\nVerbrennung/Verbrü
 hung\n\n\nWorkshops (je 45 min im Wechsel):\n• Atemwegsmanagement\n• Kardio
 pulmonale Reanimation\n• Neugeborenen Erstversorgung\n• Geburtshilfliche No
 tfälle\n\n\nTAG 2\nVorträge: \nNeurologische Notfälle\nTraumatologische Not
 fälle\nKardiale Notfälle \nSchock im Kindesalter\nKindesmisshandlung\nIntox
 ikationen\n\n\nWorkshops (je 45 min im Wechsel):\n• Kindernarkose im Rettun
 gsdienst\n• Crashkurs EKG\n• Fallsimulation I\n• Fallsimulation II\n\n\n \n
 \n\nTeilnahmegebühren für Vorträge und Workshops 380€ (inkl. Pausen-Caterin
 g und Mittagessen)\n\n\nWeitere Informationen und Anmeldung per EMail unter
  Diese E-Mail-Adresse ist vor Spambots geschützt! Zur Anzeige muss JavaScri
 pt eingeschaltet sein!
				document.getElementById('cloakfd0954d8fdf38f4125
 60ee1afffb6322').innerHTML = '';
				var prefix = '&#109;a' + 'i&#108;' + '
 &#116;o';
				var path = 'hr' + 'ef' + '=';
				var addyfd0954d8fdf38f41256
 0ee1afffb6322 = 'k&#105;nd&#101;rn&#111;tf&#97;llk&#117;rs' + '&#64;';
				
 addyfd0954d8fdf38f412560ee1afffb6322 = addyfd0954d8fdf38f412560ee1afffb6322
  + '&#117;kr' + '&#46;' + 'd&#101;';
				var addy_textfd0954d8fdf38f412560e
 e1afffb6322 = 'k&#105;nd&#101;rn&#111;tf&#97;llk&#117;rs' + '&#64;' + '&#11
 7;kr' + '&#46;' + 'd&#101;';document.getElementById('cloakfd0954d8fdf38f412
 560ee1afffb6322').innerHTML += ''+addy_textfd0954d8fdf38f412560ee1afffb6322
 +'';
		.\n
DTSTAMP:20260421T102828Z
DTSTART;TZID=Europe/Berlin;VALUE=DATE:20231110
DTEND;TZID=Europe/Berlin;VALUE=DATE:20231112
SEQUENCE:0
TRANSP:OPAQUE
END:VEVENT
END:VCALENDAR