BEGIN:VCALENDAR
VERSION:2.0
PRODID:-//jEvents 2.0 for Joomla//EN
CALSCALE:GREGORIAN
METHOD:PUBLISH
BEGIN:VTIMEZONE
TZID:Europe/Berlin
BEGIN:STANDARD
DTSTART:20241114T000000
RDATE:20250330T030000
TZOFFSETFROM:+0200
TZOFFSETTO:+0100
TZNAME:Europe/Berlin CET
END:STANDARD
BEGIN:STANDARD
DTSTART:20251026T020000
RDATE:20260329T030000
TZOFFSETFROM:+0200
TZOFFSETTO:+0100
TZNAME:Europe/Berlin CET
END:STANDARD
BEGIN:STANDARD
DTSTART:20261025T020000
RDATE:20270328T030000
TZOFFSETFROM:+0200
TZOFFSETTO:+0100
TZNAME:Europe/Berlin CET
END:STANDARD
BEGIN:STANDARD
DTSTART:20271031T020000
RDATE:20280326T030000
TZOFFSETFROM:+0200
TZOFFSETTO:+0100
TZNAME:Europe/Berlin CET
END:STANDARD
BEGIN:DAYLIGHT
DTSTART:20250330T030000
RDATE:20251026T020000
TZOFFSETFROM:+0100
TZOFFSETTO:+0200
TZNAME:Europe/Berlin CEST
END:DAYLIGHT
BEGIN:DAYLIGHT
DTSTART:20260329T030000
RDATE:20261025T020000
TZOFFSETFROM:+0100
TZOFFSETTO:+0200
TZNAME:Europe/Berlin CEST
END:DAYLIGHT
BEGIN:DAYLIGHT
DTSTART:20270328T030000
RDATE:20271031T020000
TZOFFSETFROM:+0100
TZOFFSETTO:+0200
TZNAME:Europe/Berlin CEST
END:DAYLIGHT
END:VTIMEZONE
BEGIN:VEVENT
UID:111a45a3057bcd3777911378d69a8a81
CATEGORIES:Kongresse
CREATED:20250128T104621
SUMMARY:AHA PALS Provider –  Kurs der American Heart Association
LOCATION:Kooperationspartner Notfallinstitut Hellweg
DESCRIPTION;ENCODING=QUOTED-PRINTABLE:\n\nIm PALS Kurs lernst du neben der strukturierten Ersteinschätzung und Be
 urteilung von pädiatrischen Notfallpatienten auch die Versorgung spezieller
  pädiatrischer Notfallsituationen sowie die Reanimation von Säuglingen und 
 Kindern. Zudem trainierst du das Atemwegs- und Zugangsmanagement bei diesen
  Notfallpatienten.\n Der PALS Kurs bei NotfallXperte bietet über das üblich
 e Maß hinaus spezielle Skillstationen, etwa zum Infusions- und Zugangsmanag
 ement, sowie anspruchsvolle Übungen zur Atemwegssicherung inklusive Rachen-
 CPAP. Nutze die Möglichkeit, verschiedene Atemwegshilfen und Videolaryngosk
 ope auszuprobieren oder verfeinere deinen Teamansatz mit unserer CPR-Checkl
 iste und der Verwendung pädiatrischer Notfallhilfsmittel.\n\n\n \n\n\nKursg
 ebühr: 645,00 € pro Teilnehmer\n
DTSTAMP:20260420T152627Z
DTSTART;TZID=Europe/Berlin;VALUE=DATE:20251115
DTEND;TZID=Europe/Berlin;VALUE=DATE:20251117
SEQUENCE:0
TRANSP:OPAQUE
END:VEVENT
END:VCALENDAR