BEGIN:VCALENDAR
VERSION:2.0
PRODID:-//jEvents 2.0 for Joomla//EN
CALSCALE:GREGORIAN
METHOD:PUBLISH
BEGIN:VTIMEZONE
TZID:Europe/Berlin
BEGIN:STANDARD
DTSTART:20241109T113000
RDATE:20250330T030000
TZOFFSETFROM:+0200
TZOFFSETTO:+0100
TZNAME:Europe/Berlin CET
END:STANDARD
BEGIN:STANDARD
DTSTART:20251026T020000
RDATE:20260329T030000
TZOFFSETFROM:+0200
TZOFFSETTO:+0100
TZNAME:Europe/Berlin CET
END:STANDARD
BEGIN:STANDARD
DTSTART:20261025T020000
RDATE:20270328T030000
TZOFFSETFROM:+0200
TZOFFSETTO:+0100
TZNAME:Europe/Berlin CET
END:STANDARD
BEGIN:STANDARD
DTSTART:20271031T020000
RDATE:20280326T030000
TZOFFSETFROM:+0200
TZOFFSETTO:+0100
TZNAME:Europe/Berlin CET
END:STANDARD
BEGIN:DAYLIGHT
DTSTART:20250330T030000
RDATE:20251026T020000
TZOFFSETFROM:+0100
TZOFFSETTO:+0200
TZNAME:Europe/Berlin CEST
END:DAYLIGHT
BEGIN:DAYLIGHT
DTSTART:20260329T030000
RDATE:20261025T020000
TZOFFSETFROM:+0100
TZOFFSETTO:+0200
TZNAME:Europe/Berlin CEST
END:DAYLIGHT
BEGIN:DAYLIGHT
DTSTART:20270328T030000
RDATE:20271031T020000
TZOFFSETFROM:+0100
TZOFFSETTO:+0200
TZNAME:Europe/Berlin CEST
END:DAYLIGHT
END:VTIMEZONE
BEGIN:VEVENT
UID:f339814f5e714b8076d141c514c22ff8
CATEGORIES:Kongresse
CREATED:20250411T081544
SUMMARY:Intensivtransportkurs nach DIVI
LOCATION:Bildungszentrum Fürth
DESCRIPTION;ENCODING=QUOTED-PRINTABLE:Beschreibung:\nPatienten, die durch ein Intensivtransportmittel verlegt bzw
 . transportiert werden müssen, stellen hohe medizinische und logistische An
 forderungen an die durchführenden Teams. Dieser Kurs vermittelt die Grundke
 nntnisse zur sicheren Begleitung intensivpflichtiger Patienten und umfasst 
 sowohl medizinische als auch Aspekte der Teamorganisation und des Crew-Ress
 ource-Managements.  \nKursinhalte:\n\n - Einsatz von Kreislaufunterstützung
 ssystemen,\n - Lufttransport / Luftrettung,\n - Repatriierung bodengebunden
  und luftgestützt,\n - CRM – Crew Ressource Management\n - Dokumentation un
 d Arzt-Arzt- Gespräch\n - Medizinische Strategien für den IHT - insbesonder
 e zur Vermeidung eines Transporttraumas\n - Recht und Qualitätsmanagement\n
  - Monitoring - Beatmung und\n - Drainagenmanagement und Patientenlagerung\
 n - Grundlagen der Flugphysiologie\n - Spezielle Einsatztaktik für Luftrett
 ungsmittel\n - Transportbesonderheiten spezieller Patientengruppen (Neurolo
 gie, Kardiologie, Traumatologie, Infektionstransporte, Kinder und Säuglinge
 ) Schwerpunkte:\n\n - Interprofessionelle praktische Übungen in Szenarien i
 n Kleinstgruppen\n - Patientensimulation\n - Fertigkeitstraining\n - Worksh
 ops und FallbesprechungenZielgruppe:\nNotärzte, Klinikärzte, Notfallsanität
 er, (Intensiv-)Pflegepersonal\n\n\nUmfang: 2,5 Tage \nTeilnahmegebühr: 895,
 00 €, inkl. Tagesverpflegung \nCME-Punkte sind beantragt.\nBei weiteren Fra
 gen stehen wir Ihnen gerne unter E-Mail Diese E-Mail-Adresse ist vor Spambo
 ts geschützt! Zur Anzeige muss JavaScript eingeschaltet sein!
				document.
 getElementById('cloak233fbaf5fdddc6a866989c247789cd2c').innerHTML = '';
			
 	var prefix = '&#109;a' + 'i&#108;' + '&#116;o';
				var path = 'hr' + 'ef'
  + '=';
				var addy233fbaf5fdddc6a866989c247789cd2c = 'v&#101;rw&#97;lt&#1
 17;ng' + '&#64;';
				addy233fbaf5fdddc6a866989c247789cd2c = addy233fbaf5fd
 ddc6a866989c247789cd2c + '&#105;n&#111;b' + '&#46;' + '&#111;rg';
				var a
 ddy_text233fbaf5fdddc6a866989c247789cd2c = 'v&#101;rw&#97;lt&#117;ng' + '&#
 64;' + '&#105;n&#111;b' + '&#46;' + '&#111;rg';document.getElementById('clo
 ak233fbaf5fdddc6a866989c247789cd2c').innerHTML += ''+addy_text233fbaf5fdddc
 6a866989c247789cd2c+'';
		 oder Telefon 0911 - 368 309 81 zur Verfügung.\n 
 \n
DTSTAMP:20260419T202810Z
DTSTART;TZID=Europe/Berlin:20251110T113000
DTEND;TZID=Europe/Berlin:20251112T171500
SEQUENCE:0
TRANSP:OPAQUE
END:VEVENT
END:VCALENDAR