BEGIN:VCALENDAR
VERSION:2.0
PRODID:-//jEvents 2.0 for Joomla//EN
CALSCALE:GREGORIAN
METHOD:PUBLISH
BEGIN:VTIMEZONE
TZID:Europe/Berlin
BEGIN:STANDARD
DTSTART:20241107T090000
RDATE:20250330T030000
TZOFFSETFROM:+0200
TZOFFSETTO:+0100
TZNAME:Europe/Berlin CET
END:STANDARD
BEGIN:STANDARD
DTSTART:20251026T020000
RDATE:20260329T030000
TZOFFSETFROM:+0200
TZOFFSETTO:+0100
TZNAME:Europe/Berlin CET
END:STANDARD
BEGIN:STANDARD
DTSTART:20261025T020000
RDATE:20270328T030000
TZOFFSETFROM:+0200
TZOFFSETTO:+0100
TZNAME:Europe/Berlin CET
END:STANDARD
BEGIN:STANDARD
DTSTART:20271031T020000
RDATE:20280326T030000
TZOFFSETFROM:+0200
TZOFFSETTO:+0100
TZNAME:Europe/Berlin CET
END:STANDARD
BEGIN:DAYLIGHT
DTSTART:20250330T030000
RDATE:20251026T020000
TZOFFSETFROM:+0100
TZOFFSETTO:+0200
TZNAME:Europe/Berlin CEST
END:DAYLIGHT
BEGIN:DAYLIGHT
DTSTART:20260329T030000
RDATE:20261025T020000
TZOFFSETFROM:+0100
TZOFFSETTO:+0200
TZNAME:Europe/Berlin CEST
END:DAYLIGHT
BEGIN:DAYLIGHT
DTSTART:20270328T030000
RDATE:20271031T020000
TZOFFSETFROM:+0100
TZOFFSETTO:+0200
TZNAME:Europe/Berlin CEST
END:DAYLIGHT
END:VTIMEZONE
BEGIN:VEVENT
UID:67fdc6015d49883748de6aabcb3c6ce0
CATEGORIES:Kongresse
CREATED:20250428T180429
SUMMARY:Grundkurs Notfallsonografie (DEGUM)
LOCATION:MAMBA Skillslab, Haus 97
DESCRIPTION;ENCODING=QUOTED-PRINTABLE:Sonografie Grundlagen für Akut- und Intensiv nach DEGUM Curriculum inkl. eF
 AST und FEEL / Basis TTE\n2 tägiger Kurs, geeignet für die \nZielgruppe I N
 otärzt:innen &amp; Ärztinnen und Ärzte in Notaufnahme, Intensiv, Anästhesie
 , Chirurgie, Innere Medizin, Neurologie, Pädiatrie\ndie in Notaufnahme, Int
 ensivstation oder auf dem NEF sowie peri-op. arbeiten.\n \nKursgebühr I 560
  Euro\nLeistungen I Blended Learning Paket inkl. Präsenzseminar,&gt; 50% Pr
 axis als Kleingruppen-Training, 11 Pocket Cards vom SonoABCD-Verlag, Zugrif
 f auf Vortragsinhalte und -aufzeichnungen für Ihre Vor- und Nachbereitung. 
 DEGUM-Bescheinigung, ca. 20 CME FoBi-Punkte der zuständigen Landesärztekamm
 er, Verpflegung.\n \nAlle Kursinhalte und Anmeldung, s. Flyer unter www.Son
 oABCD.org\nZertifizierungen I DEGUM als Grundkurs Notfallsonografie / Grund
 kurs 2 Anästhesiologie (äquiv. zu den AFS Modulen 3 &amp; PFE 1; DGAI)\nAne
 rkennbar als Notarzt- und Rettungsdienstfortbildung nach Deutschen Rettungs
 dienstgesetzen (s. §18 Hessisches RDG oder §4 RettG Nordrhein-Westfalen wie
  in anderen Bundesländern\n
DTSTAMP:20260419T171810Z
DTSTART;TZID=Europe/Berlin:20251108T090000
DTEND;TZID=Europe/Berlin:20251109T180000
SEQUENCE:0
TRANSP:OPAQUE
END:VEVENT
END:VCALENDAR