BEGIN:VCALENDAR
VERSION:2.0
PRODID:-//jEvents 2.0 for Joomla//EN
CALSCALE:GREGORIAN
METHOD:PUBLISH
BEGIN:VTIMEZONE
TZID:Europe/Berlin
BEGIN:STANDARD
DTSTART:20191027T020000
RDATE:20200329T030000
TZOFFSETFROM:+0200
TZOFFSETTO:+0100
TZNAME:Europe/Berlin CET
END:STANDARD
BEGIN:STANDARD
DTSTART:20201025T020000
RDATE:20210328T030000
TZOFFSETFROM:+0200
TZOFFSETTO:+0100
TZNAME:Europe/Berlin CET
END:STANDARD
BEGIN:STANDARD
DTSTART:20211031T020000
RDATE:20220327T030000
TZOFFSETFROM:+0200
TZOFFSETTO:+0100
TZNAME:Europe/Berlin CET
END:STANDARD
BEGIN:STANDARD
DTSTART:20221030T020000
RDATE:20230326T030000
TZOFFSETFROM:+0200
TZOFFSETTO:+0100
TZNAME:Europe/Berlin CET
END:STANDARD
BEGIN:STANDARD
DTSTART:20231029T020000
RDATE:20240331T030000
TZOFFSETFROM:+0200
TZOFFSETTO:+0100
TZNAME:Europe/Berlin CET
END:STANDARD
BEGIN:STANDARD
DTSTART:20241027T020000
RDATE:20250330T030000
TZOFFSETFROM:+0200
TZOFFSETTO:+0100
TZNAME:Europe/Berlin CET
END:STANDARD
BEGIN:STANDARD
DTSTART:20251026T020000
RDATE:20260329T030000
TZOFFSETFROM:+0200
TZOFFSETTO:+0100
TZNAME:Europe/Berlin CET
END:STANDARD
BEGIN:STANDARD
DTSTART:20261025T020000
RDATE:20270328T030000
TZOFFSETFROM:+0200
TZOFFSETTO:+0100
TZNAME:Europe/Berlin CET
END:STANDARD
BEGIN:STANDARD
DTSTART:20271031T020000
RDATE:20280326T030000
TZOFFSETFROM:+0200
TZOFFSETTO:+0100
TZNAME:Europe/Berlin CET
END:STANDARD
BEGIN:DAYLIGHT
DTSTART:20190904T000000
RDATE:20191027T020000
TZOFFSETFROM:+0100
TZOFFSETTO:+0200
TZNAME:Europe/Berlin CEST
END:DAYLIGHT
BEGIN:DAYLIGHT
DTSTART:20200329T030000
RDATE:20201025T020000
TZOFFSETFROM:+0100
TZOFFSETTO:+0200
TZNAME:Europe/Berlin CEST
END:DAYLIGHT
BEGIN:DAYLIGHT
DTSTART:20210328T030000
RDATE:20211031T020000
TZOFFSETFROM:+0100
TZOFFSETTO:+0200
TZNAME:Europe/Berlin CEST
END:DAYLIGHT
BEGIN:DAYLIGHT
DTSTART:20220327T030000
RDATE:20221030T020000
TZOFFSETFROM:+0100
TZOFFSETTO:+0200
TZNAME:Europe/Berlin CEST
END:DAYLIGHT
BEGIN:DAYLIGHT
DTSTART:20230326T030000
RDATE:20231029T020000
TZOFFSETFROM:+0100
TZOFFSETTO:+0200
TZNAME:Europe/Berlin CEST
END:DAYLIGHT
BEGIN:DAYLIGHT
DTSTART:20240331T030000
RDATE:20241027T020000
TZOFFSETFROM:+0100
TZOFFSETTO:+0200
TZNAME:Europe/Berlin CEST
END:DAYLIGHT
BEGIN:DAYLIGHT
DTSTART:20250330T030000
RDATE:20251026T020000
TZOFFSETFROM:+0100
TZOFFSETTO:+0200
TZNAME:Europe/Berlin CEST
END:DAYLIGHT
BEGIN:DAYLIGHT
DTSTART:20260329T030000
RDATE:20261025T020000
TZOFFSETFROM:+0100
TZOFFSETTO:+0200
TZNAME:Europe/Berlin CEST
END:DAYLIGHT
BEGIN:DAYLIGHT
DTSTART:20270328T030000
RDATE:20271031T020000
TZOFFSETFROM:+0100
TZOFFSETTO:+0200
TZNAME:Europe/Berlin CEST
END:DAYLIGHT
END:VTIMEZONE
BEGIN:VEVENT
UID:915ce661a94fa2cedc5749f67e58ff78
CATEGORIES:Kongresse
CREATED:20200108T094554
SUMMARY:16. Greifswalder Symposium ALPHA -  Anästhesiologie, Intensivmedizin, präklinische und klinische Notfallmedizin, Schmerztherapie
LOCATION:Alfried Krupp Wissenschaftskolleg in Greifswald
DESCRIPTION;ENCODING=QUOTED-PRINTABLE:\n\n--- Save the date ---\n\n\n04.-05.09.2020\n\n\n16. Greifswalder Symposi
 um ALPHA\nAnästhesiologie, Intensivmedizin, präklinische und klinische Notf
 allmedizin, Schmerztherapie\nim Alfried Krupp Wissenschaftskolleg in Greifs
 wald\n\n\nEin Vorprogramm finden Sie in Kürze auf unserer Klinikhompage unt
 er den Veranstaltungshinweisn. Folgen Sie gern dem angegebenen Link.\n\n\nB
 ei Fragen wenden Sie sich gern an Herrn Dr. Hary Kertscho oder Frau Corneli
 a Kampe unter Diese E-Mail-Adresse ist vor Spambots geschützt! Zur Anzeige 
 muss JavaScript eingeschaltet sein!
				document.getElementById('cloak725eb
 b09587e34157917d104e1e273e4').innerHTML = '';
				var prefix = '&#109;a' + 
 'i&#108;' + '&#116;o';
				var path = 'hr' + 'ef' + '=';
				var addy725ebb
 09587e34157917d104e1e273e4 = '&#97;lph&#97;' + '&#64;';
				addy725ebb09587
 e34157917d104e1e273e4 = addy725ebb09587e34157917d104e1e273e4 + 'm&#101;d' +
  '&#46;' + '&#117;n&#105;-gr&#101;&#105;fsw&#97;ld' + '&#46;' + 'd&#101;';

 				var addy_text725ebb09587e34157917d104e1e273e4 = '&#97;lph&#97;' + '&#64
 ;' + 'm&#101;d' + '&#46;' + '&#117;n&#105;-gr&#101;&#105;fsw&#97;ld' + '&#4
 6;' + 'd&#101;';document.getElementById('cloak725ebb09587e34157917d104e1e27
 3e4').innerHTML += ''+addy_text725ebb09587e34157917d104e1e273e4+'';
		 oder
  telefonisch unter +49 3834 86 58 60.\n\n\nUniversitätsmedizin Greifswald\n
  Klinik für Anästhesiologie\n Anästhesie, Intensiv-, Notfall- und Schmerzme
 dizin\nFerdinand-Sauerbruch-Straße \n 17475 Greifswald\n \n Tel.: +49 3834 
 86 5860\n Fax: +49 3834 86 5802\n E-Mail: Diese E-Mail-Adresse ist vor Spam
 bots geschützt! Zur Anzeige muss JavaScript eingeschaltet sein!
				documen
 t.getElementById('cloakd9595521ed3747ff76111632f06da427').innerHTML = '';
	
 			var prefix = '&#109;a' + 'i&#108;' + '&#116;o';
				var path = 'hr' + 'e
 f' + '=';
				var addyd9595521ed3747ff76111632f06da427 = 'C&#111;rn&#101;l&
 #105;&#97;.K&#97;mp&#101;' + '&#64;';
				addyd9595521ed3747ff76111632f06da
 427 = addyd9595521ed3747ff76111632f06da427 + 'm&#101;d' + '&#46;' + '&#117;
 n&#105;-gr&#101;&#105;fsw&#97;ld' + '&#46;' + 'd&#101;';
				var addy_textd
 9595521ed3747ff76111632f06da427 = '&#97;lph&#97;' + '&#64;' + 'm&#101;d' + 
 '&#46;' + '&#117;n&#105;-gr&#101;&#105;fsw&#97;ld' + '&#46;' + 'd&#101;';do
 cument.getElementById('cloakd9595521ed3747ff76111632f06da427').innerHTML +=
  ''+addy_textd9595521ed3747ff76111632f06da427+'';
		\n\n\n_________________
 ________________________________________________\n UNIVERSITÄTSMEDIZIN GREI
 FSWALD · KöR \n Vorstand: Prof. Dr. C.-D. Heidecke (VV/ÄV) · M. le Claire (
 KV/stv. VV) · Prof. Dr. K. Endlich (komm. WV)\n Aufsichtsratsvorsitzender: 
 Mathias Brodkorb\n Fleischmannstraße 8 · 17475 Greifswald · www.medizin.uni
 -greifswald.de\n \n
DTSTAMP:20260426T053036Z
DTSTART;TZID=Europe/Berlin;VALUE=DATE:20200904
DTEND;TZID=Europe/Berlin;VALUE=DATE:20200906
SEQUENCE:0
TRANSP:OPAQUE
END:VEVENT
END:VCALENDAR